Workbook

Sheet 0_MODELO DE COTAÇÃO
B1: ANEXO III.C - MODELO DE COTAÇÃO
B2: OBJETO | C2: PALÁCIO DOS CORREIOS - INFRAESTRUTURA ELÉTRICA
B3: ENDEREÇO | C3: São Paulo - SP
B4: CÓDIGO | C4: DESCRIÇÃO DOS SERVIÇOS | D4: CORRESPONDÊNCIA NAS TABELAS REFERENCIAIS | E4: FONTE (COM DESONERAÇÃO) | F4: UNID. | G4: QTDE | H4: PREÇO UNITÁRIO [R$] | I4: PREÇO TOTAL [R$]
A5: 1 | D5: EQUIPE TÉCNICA | I5: 0
A6: 1.1 | B6: 20-003-002 | C6: ENGENHEIRO/ ARQUITETO SÊNIOR | D6: ENGENHEIRO/ ARQUITETO SÊNIOR | E6: SIURB | F6: H | G6: 480 | H6: 0 | I6: 0
A7: 1.2 | B7: 100309 | C7: TÉCNICO EM SEGURANÇA DO TRABALHO COM ENCARGOS COMPLEMENTARES | D7: TÉCNICO EM SEGURANÇA DO TRABALHO COM ENCARGOS COMPLEMENTARES | E7: SINAPI | F7: H | G7: 240 | H7: 0 | I7: 0
A8: 1.3 | B8: 100533 | C8: TECNICO DE EDIFICACOES COM ENCARGOS COMPLEMENTARES | D8: TECNICO DE EDIFICACOES COM ENCARGOS COMPLEMENTARES | E8: SINAPI | F8: H | G8: 240 | H8: 0 | I8: 0
A9: 1.4 | B9: 12-004-000 | C9: ELETRICISTA | D9: ELETRICISTA | E9: SIURB | F9: H | G9: 480 | H9: 0 | I9: 0
A10: 1.5 | B10: 03-041-000 | C10: AJUDANTE GERAL | D10: AJUDANTE GERAL | E10: SIURB | F10: H | G10: 480 | H10: 0 | I10: 0
A11: 2 | D11: PROJETOS | I11: 0
A12: 2.1 | B12: 20-003-061 | C12: PROJETO EXECUTIVO (PRANCHA A1) | D12: PROJETO EXECUTIVO (PRANCHA A1) | E12: SIURB | F12: UN | G12: 15 | H12: 0 | I12: 0
A13: 3 | D13: INSTALAÇÕES ELÉTRICAS - CABOS E INFRAESTRUTURA | I13: 0
A14: 3.1 | B14: 09-084-002 | C14: BUCHA E ARRUELA RÍGIDA PESADA EM ZAMAK - 3/4" | D14: BUCHA E ARRUELA RÍGIDA PESADA EM ZAMAK - 3/4" | E14: SIURB | F14: UN | G14: 619 | H14: 0 | I14: 0
A15: 3.2 | B15: 09-003-105 | C15: CABO DE COBRE 6MM2 - ISOLAMENTO PARA 0,6/1KV - CLASSE 5 - FLEXÍVEL - ISOLAÇÃO EM EPR 90 C | D15: CABO DE COBRE 6MM2 - ISOLAMENTO PARA 0,6/1KV - CLASSE 5 - FLEXÍVEL - ISOLAÇÃO EM EPR 90 C | E15: SIURB | F15: M | G15: 21047 | H15: 0 | I15: 0
A16: 3.3 | B16: 09-003-106 | C16: PINTURA DE ESQUADRIAS E PEÇAS METÁLICAS | D16: CABO DE COBRE 10MM2 - ISOLAMENTO PARA 0,6/1KV - CLASSE 5 - FLEXÍVEL - ISOLAÇÃO EM EPR 90 C | E16: SIURB | F16: M | G16: 422.5 | H16: 0 | I16: 0
A17: 3.4 | B17: 09-003-109 | C17: PINTURA DE CONDUTORES E COMPONENTES METÁLICOS DE TELHADOS | D17: CABO DE COBRE 35MM2 - ISOLAMENTO PARA 0,6/1KV - CLASSE 5 - FLEXÍVEL - ISOLAÇÃO EM EPR 90 C | E17: SIURB | F17: M | G17: 778.7 | H17: 0 | I17: 0
A18: 3.5 | B18: 09-003-111 | C18: PINTURA DE ESQUADRIAS E PEÇAS EM MARCENARIA | D18: CABO DE COBRE 70MM2 - ISOLAMENTO PARA 0,6/1KV - CLASSE 5 - FLEXÍVEL - ISOLAÇÃO EM EPR 90 C | E18: SIURB | F18: M | G18: 7095.4 | H18: 0 | I18: 0
A19: 3.6 | B19: 09-003-112 | C19: CABO DE COBRE 95MM2 - ISOLAMENTO PARA 0,6/1KV - CLASSE 5 - FLEXÍVEL - ISOLAÇÃO EM EPR 90 C | D19: CABO DE COBRE 95MM2 - ISOLAMENTO PARA 0,6/1KV - CLASSE 5 - FLEXÍVEL - ISOLAÇÃO EM EPR 90 C | E19: SIURB | F19: M | G19: 120.9 | H19: 0 | I19: 0
A20: 3.7 | B20: 09-003-113 | C20: APLICAÇÃO DE VERNIZ SOBRE SUPERFÍCIES DE CONCRETO APARENTE | D20: CABO DE COBRE 120MM2 - ISOLAMENTO PARA 0,6/1KV - CLASSE 5 - FLEXÍVEL - ISOLAÇÃO EM EPR 90 C | E20: SIURB | F20: M | G20: 650 | H20: 0 | I20: 0
A21: 3.8 | B21: 09-003-115 | C21: CABO DE COBRE 185MM2 - ISOLAMENTO PARA 0,6/1KV - CLASSE 5 - FLEXÍVEL - ISOLAÇÃO EM EPR 90 C | D21: CABO DE COBRE 185MM2 - ISOLAMENTO PARA 0,6/1KV - CLASSE 5 - FLEXÍVEL - ISOLAÇÃO EM EPR 90 C | E21: SIURB | F21: M | G21: 1093.6 | H21: 0 | I21: 0
A22: 3.9 | B22: 09-003-122 | C22: CABO DE COBRE 2,50MM2 - ISOLAMENTO PARA 750V - AFUMEX - CLASSE 5 - FLEXÍVEL - ISOLAÇÃO EM HEPR 90 C | D22: CABO DE COBRE 2,50MM2 - ISOLAMENTO PARA 750V - AFUMEX - CLASSE 5 - FLEXÍVEL - ISOLAÇÃO EM HEPR 90 C | E22: SIURB | F22: M | G22: 32360 | H22: 0 | I22: 0
A23: 3.10 | B23: 09-003-123 | C23: PINTURA DE RODAPÉS E GUARNIÇÕES DE MADEIRAS | D23: CABO DE COBRE 4MM2 - ISOLAMENTO PARA 750V - AFUMEX - CLASSE 5 - FLEXÍVEL - ISOLAÇÃO EM HEPR 90 C | E23: SIURB | F23: M | G23: 4030 | H23: 0 | I23: 0
A24: 3.11 | B24: 09-005-035 | C24: CABO DE COBRE 4MM2 - ISOLAMENTO PARA 750V - AFUMEX - CLASSE 5 - FLEXÍVEL - ISOLAÇÃO EM HEPR 90 C | D24: CAIXA DE PASSAGEM TIPO CONDULETE - 3" | E24: SIURB | F24: UN | G24: 354 | H24: 0 | I24: 0
A25: 3.12 | B25: 09-013-046 | C25: CAIXA DE PASSAGEM TIPO CONDULETE - 3" | D25: ELETROCALHA PERF. GALV. ELETROL. CHAPA 14 - 150X100MM C/ TAMPA E INST. | E25: SIURB | F25: M | G25: 62.4 | H25: 0 | I25: 0
... A27: 3.14 | B27: 09-013-050 | C27: PINTURA MINERAL TEXTURIZADA | D27: ELETROCALHA PERF. GALV. ELETROL. CHAPA 14 - 400X100MM C/ TAMPA E INST. | E27: SIURB | F27: M | G27: 1240.2 | H27: 0 | I27: 0
A28: 4 | D28: QBTG - SMART SAMPA | I28: 0
A29: 4.1 | B29: COMP. 1 | C29: PAREDE DRYWALL FACE DUPLA EM GESSO ACARTONADO | D29: Caixa p/quadro (2000 x 1200 x 40mm) em chapa galvanizada, inclusive barramento, isolador e montagem, exclusive disjuntores | E29: COMPOSIÇÃO | F29: UN | G29: 2 | H29: 0 | I29: 0
A30: 4.2 | B30: 09-008-024 | C30: ISOLAMENTO ACÚSTICO PARA PAREDE DRYWALL | D30: DISJUNTOR AUTOMÁTICO TRIPOLAR A SECO 1600A/600V | E30: SIURB | F30: UN | G30: 6 | H30: 0 | I30: 0
A31: 4.3 | B31: 09-017-037 | C31: REFORÇO DE MADEIRA PARA PAREDE DRYWALL | D31: TRANSFORMADOR DE CORRENTE PARA PROTEÇÃO DE INSTALAÇÃO PRIMÁRIA (TENSÃO MÁXIMA 15kV – USO INTERNO) – RELAÇÃO 200:5A | E31: SIURB | F31: UN | G31: 3 | H31: 0 | I31: 0
A32: 4.4 | B32: 09-008-012 | C32: FORRO EM DRYWALL | D32: MINI DISJUNTOR - TIPO EUROPEU (IEC) - BIPOLAR 6/25A | E32: SIURB | F32: UN | G32: 3 | H32: 0 | I32: 0
A33: 5 | D33: QUADROS TRAFOS | I33: 0
A34: 5.1 | B34: COMP. 1 | C34: Caixa p/quadro (2000 x 1200 x 40mm) em chapa galvanizada, inclusive barramento, isolador e montagem, exclusive disjuntores | D34: Caixa p/quadro (2000 x 1200 x 40mm) em chapa galvanizada, inclusive barramento, isolador e montagem, exclusive disjuntores | E34: COMPOSIÇÃO | F34: UN | G34: 1 | H34: 0 | I34: 0
A35: 5.2 | B35: 101900 | C35: DISJUNTOR BAIXA TENSÃO TRIPOLAR A SECO 800A/600V - FORNECIMENTO E INSTALAÇÃO. AF_07/2025 | D35: DISJUNTOR BAIXA TENSÃO TRIPOLAR A SECO 800A/600V - FORNECIMENTO E INSTALAÇÃO. AF_07/2025 | E35: SINAPI | F35: UN | G35: 8 | H35: 0 | I35: 0
A36: 6 | D36: QGBT - AR CONDICIONADO | I36: 0
A37: 6.1 | B37: COMP. 1 | C37: Caixa p/quadro (2000 x 1200 x 40mm) em chapa galvanizada, inclusive barramento, isolador e montagem, exclusive disjuntores | D37: Caixa p/quadro (2000 x 1200 x 40mm) em chapa galvanizada, inclusive barramento, isolador e montagem, exclusive disjuntores | E37: COMPOSIÇÃO | F37: UN | G37: 1 | H37: 0 | I37: 0
A38: 6.2 | B38: 101900 | C38: DISJUNTOR BAIXA TENSÃO TRIPOLAR A SECO 800A/600V - FORNECIMENTO E INSTALAÇÃO. AF_07/2025 | D38: DISJUNTOR BAIXA TENSÃO TRIPOLAR A SECO 800A/600V - FORNECIMENTO E INSTALAÇÃO. AF_07/2025 | E38: SINAPI | F38: UN | G38: 1 | H38: 0 | I38: 0
A39: 6.3 | B39: 37.11.120 | C39: Base de fusível tripolar de 15 kV | D39: Base de fusível tripolar de 15 kV | E39: CPOS/CDHU | F39: UN | G39: 3 | H39: 0 | I39: 0
A40: 6.4 | B40: 09-017-001 | C40: DPS - DISPOSITIVO PROTEÇÃO CONTRA SURTOS 275V - 40KA | D40: DPS - DISPOSITIVO PROTEÇÃO CONTRA SURTOS 275V - 40KA | E40: SIURB | F40: UN | G40: 4 | H40: 0 | I40: 0
A41: 6.5 | B41: 09-017-037 | C41: TRANSFORMADOR DE CORRENTE PARA PROTEÇÃO DE INSTALAÇÃO PRIMÁRIA (TENSÃO MÁXIMA 15kV – USO INTERNO) – RELAÇÃO 200:5A | D41: TRANSFORMADOR DE CORRENTE PARA PROTEÇÃO DE INSTALAÇÃO PRIMÁRIA (TENSÃO MÁXIMA 15kV – USO INTERNO) – RELAÇÃO 200:5A | E41: SIURB | F41: UN | G41: 3 | H41: 0 | I41: 0
...

Sheet 1_PLANILHA ORÇAMENTÁRIA
B1: PLANILHA ORÇAMENTÁRIA
B2: OBJETO | C2: PALÁCIO DOS CORREIOS - INFRAESTRUTURA ELÉTRICA
B3: ENDEREÇO | C3: São Paulo - SP
B4: CÓDIGO | C4: DESCRIÇÃO DOS SERVIÇOS | D4: CORRESPONDÊNCIA NAS TABELAS REFERENCIAIS | E4: FONTE (COM DESONERAÇÃO) | F4: UNID. | G4: QTDE | H4: PREÇO UNITÁRIO [R$] | I4: PREÇO TOTAL [R$]
A5: 1 | D5: =VLOOKUP(A5,'2_MEMÓRIA'!B:D,2,0) -> EQUIPE TÉCNICA | I5: =IFERROR(SUM(I6:I10),0) -> 217252.8
A6: 1.1 | B6: =VLOOKUP(A6,'2_MEMÓRIA'!B:C,2,0) -> 20-003-002 | C6: =D6 -> ENGENHEIRO/ ARQUITETO SÊNIOR | D6: =VLOOKUP(A6,'2_MEMÓRIA'!B:D,3,0) -> ENGENHEIRO/ ARQUITETO SÊNIOR | E6: =VLOOKUP(VLOOKUP(A6,'2_MEMÓRIA'!B:L,11,0),'0_critérios'!A:D,4,0) -> SIURB | F6: =VLOOKUP(A6,'2_MEMÓRIA'!B:N,12,0) -> H | G6: =VLOOKUP(A6,'2_MEMÓRIA'!B:O,14,0) -> 480 | H6: =VLOOKUP(A6,'2_MEMÓRIA'!B:O,13,0) -> 322.26 | I6: =TRUNC(H6*G6,2) -> 154684.8
A7: 1.2 | B7: =VLOOKUP(A7,'2_MEMÓRIA'!B:C,2,0) -> 100309 | C7: =D7 -> TÉCNICO EM SEGURANÇA DO TRABALHO COM ENCARGOS COMPLEMENTARES | D7: =VLOOKUP(A7,'2_MEMÓRIA'!B:D,3,0) -> TÉCNICO EM SEGURANÇA DO TRABALHO COM ENCARGOS COMPLEMENTARES | E7: =VLOOKUP(VLOOKUP(A7,'2_MEMÓRIA'!B:L,11,0),'0_critérios'!A:D,4,0) -> SINAPI | F7: =VLOOKUP(A7,'2_MEMÓRIA'!B:N,12,0) -> H | G7: =VLOOKUP(A7,'2_MEMÓRIA'!B:O,14,0) -> 240 | H7: =VLOOKUP(A7,'2_MEMÓRIA'!B:O,13,0) -> 76.12 | I7: =TRUNC(H7*G7,2) -> 18268.8
A8: 1.3 | B8: =VLOOKUP(A8,'2_MEMÓRIA'!B:C,2,0) -> 100533 | C8: =D8 -> TECNICO DE EDIFICACOES COM ENCARGOS COMPLEMENTARES | D8: =VLOOKUP(A8,'2_MEMÓRIA'!B:D,3,0) -> TECNICO DE EDIFICACOES COM ENCARGOS COMPLEMENTARES | E8: =VLOOKUP(VLOOKUP(A8,'2_MEMÓRIA'!B:L,11,0),'0_critérios'!A:D,4,0) -> SINAPI | F8: =VLOOKUP(A8,'2_MEMÓRIA'!B:N,12,0) -> H | G8: =VLOOKUP(A8,'2_MEMÓRIA'!B:O,14,0) -> 240 | H8: =VLOOKUP(A8,'2_MEMÓRIA'!B:O,13,0) -> 67.76 | I8: =TRUNC(H8*G8,2) -> 16262.4
A9: 1.4 | B9: =VLOOKUP(A9,'2_MEMÓRIA'!B:C,2,0) -> 12-004-000 | C9: =D9 -> ELETRICISTA | D9: =VLOOKUP(A9,'2_MEMÓRIA'!B:D,3,0) -> ELETRICISTA | E9: =VLOOKUP(VLOOKUP(A9,'2_MEMÓRIA'!B:L,11,0),'0_critérios'!A:D,4,0) -> SIURB | F9: =VLOOKUP(A9,'2_MEMÓRIA'!B:N,12,0) -> H | G9: =VLOOKUP(A9,'2_MEMÓRIA'!B:O,14,0) -> 480 | H9: =VLOOKUP(A9,'2_MEMÓRIA'!B:O,13,0) -> 33.91 | I9: =TRUNC(H9*G9,2) -> 16276.8
A10: 1.5 | B10: =VLOOKUP(A10,'2_MEMÓRIA'!B:C,2,0) -> 03-041-000 | C10: =D10 -> AJUDANTE GERAL | D10: =VLOOKUP(A10,'2_MEMÓRIA'!B:D,3,0) -> AJUDANTE GERAL | E10: =VLOOKUP(VLOOKUP(A10,'2_MEMÓRIA'!B:L,11,0),'0_critérios'!A:D,4,0) -> SIURB | F10: =VLOOKUP(A10,'2_MEMÓRIA'!B:N,12,0) -> H | G10: =VLOOKUP(A10,'2_MEMÓRIA'!B:O,14,0) -> 480 | H10: =VLOOKUP(A10,'2_MEMÓRIA'!B:O,13,0) -> 24.5 | I10: =TRUNC(H10*G10,2) -> 11760
A11: 2 | D11: =VLOOKUP(A11,'2_MEMÓRIA'!B:D,2,0) -> PROJETOS | I11: =IFERROR(SUM(I12),0) -> 60057.9
A12: 2.1 | B12: =VLOOKUP(A12,'2_MEMÓRIA'!B:C,2,0) -> 20-003-061 | C12: =D12 -> PROJETO EXECUTIVO (PRANCHA A1) | D12: =VLOOKUP(A12,'2_MEMÓRIA'!B:D,3,0) -> PROJETO EXECUTIVO (PRANCHA A1) | E12: =VLOOKUP(VLOOKUP(A12,'2_MEMÓRIA'!B:L,11,0),'0_critérios'!A:D,4,0) -> SIURB | F12: =VLOOKUP(A12,'2_MEMÓRIA'!B:N,12,0) -> UN | G12: =VLOOKUP(A12,'2_MEMÓRIA'!B:O,14,0) -> 15 | H12: =VLOOKUP(A12,'2_MEMÓRIA'!B:O,13,0) -> 4003.86 | I12: =TRUNC(H12*G12,2) -> 60057.9
A13: 3 | D13: =VLOOKUP(A13,'2_MEMÓRIA'!B:D,2,0) -> INSTALAÇÕES ELÉTRICAS - CABOS E INFRAESTRUTURA | I13: =IFERROR(SUM(I14:I27),0) -> 2022708
A14: 3.1 | B14: =VLOOKUP(A14,'2_MEMÓRIA'!B:C,2,0) -> 09-084-002 | C14: =D14 -> BUCHA E ARRUELA RÍGIDA PESADA EM ZAMAK - 3/4" | D14: =VLOOKUP(A14,'2_MEMÓRIA'!B:D,3,0) -> BUCHA E ARRUELA RÍGIDA PESADA EM ZAMAK - 3/4" | E14: =VLOOKUP(VLOOKUP(A14,'2_MEMÓRIA'!B:L,11,0),'0_critérios'!A:D,4,0) -> SIURB | F14: =VLOOKUP(A14,'2_MEMÓRIA'!B:N,12,0) -> UN | G14: =VLOOKUP(A14,'2_MEMÓRIA'!B:O,14,0) -> 619 | H14: =VLOOKUP(A14,'2_MEMÓRIA'!B:O,13,0) -> 12.81 | I14: =TRUNC(H14*G14,2) -> 7929.39
A15: 3.2 | B15: =VLOOKUP(A15,'2_MEMÓRIA'!B:C,2,0) -> 09-003-105 | C15: =D15 -> CABO DE COBRE 6MM2 - ISOLAMENTO PARA 0,6/1KV - CLASSE 5 - FLEXÍVEL - ISOLAÇÃO EM EPR 90 C | D15: =VLOOKUP(A15,'2_MEMÓRIA'!B:D,3,0) -> CABO DE COBRE 6MM2 - ISOLAMENTO PARA 0,6/1KV - CLASSE 5 - FLEXÍVEL - ISOLAÇÃO EM EPR 90 C | E15: =VLOOKUP(VLOOKUP(A15,'2_MEMÓRIA'!B:L,11,0),'0_critérios'!A:D,4,0) -> SIURB | F15: =VLOOKUP(A15,'2_MEMÓRIA'!B:N,12,0) -> M | G15: =VLOOKUP(A15,'2_MEMÓRIA'!B:O,14,0) -> 21047 | H15: =VLOOKUP(A15,'2_MEMÓRIA'!B:O,13,0) -> 10.44 | I15: =TRUNC(H15*G15,2) -> 219730.68
A16: 3.3 | B16: =VLOOKUP(A16,'2_MEMÓRIA'!B:C,2,0) -> 09-003-106 | C16: PINTURA DE ESQUADRIAS E PEÇAS METÁLICAS | D16: =VLOOKUP(A16,'2_MEMÓRIA'!B:D,3,0) -> CABO DE COBRE 10MM2 - ISOLAMENTO PARA 0,6/1KV - CLASSE 5 - FLEXÍVEL - ISOLAÇÃO EM EPR 90 C | E16: =VLOOKUP(VLOOKUP(A16,'2_MEMÓRIA'!B:L,11,0),'0_critérios'!A:D,4,0) -> SIURB | F16: =VLOOKUP(A16,'2_MEMÓRIA'!B:N,12,0) -> M | G16: =VLOOKUP(A16,'2_MEMÓRIA'!B:O,14,0) -> 422.5 | H16: =VLOOKUP(A16,'2_MEMÓRIA'!B:O,13,0) -> 14.88 | I16: =TRUNC(H16*G16,2) -> 6286.8
A17: 3.4 | B17: =VLOOKUP(A17,'2_MEMÓRIA'!B:C,2,0) -> 09-003-109 | C17: PINTURA DE CONDUTORES E COMPONENTES METÁLICOS DE TELHADOS | D17: =VLOOKUP(A17,'2_MEMÓRIA'!B:D,3,0) -> CABO DE COBRE 35MM2 - ISOLAMENTO PARA 0,6/1KV - CLASSE 5 - FLEXÍVEL - ISOLAÇÃO EM EPR 90 C | E17: =VLOOKUP(VLOOKUP(A17,'2_MEMÓRIA'!B:L,11,0),'0_critérios'!A:D,4,0) -> SIURB | F17: =VLOOKUP(A17,'2_MEMÓRIA'!B:N,12,0) -> M | G17: =VLOOKUP(A17,'2_MEMÓRIA'!B:O,14,0) -> 778.7 | H17: =VLOOKUP(A17,'2_MEMÓRIA'!B:O,13,0) -> 43.82 | I17: =TRUNC(H17*G17,2) -> 34122.63
A18: 3.5 | B18: =VLOOKUP(A18,'2_MEMÓRIA'!B:C,2,0) -> 09-003-111 | C18: PINTURA DE ESQUADRIAS E PEÇAS EM MARCENARIA | D18: =VLOOKUP(A18,'2_MEMÓRIA'!B:D,3,0) -> CABO DE COBRE 70MM2 - ISOLAMENTO PARA 0,6/1KV - CLASSE 5 - FLEXÍVEL - ISOLAÇÃO EM EPR 90 C | E18: =VLOOKUP(VLOOKUP(A18,'2_MEMÓRIA'!B:L,11,0),'0_critérios'!A:D,4,0) -> SIURB | F18: =VLOOKUP(A18,'2_MEMÓRIA'!B:N,12,0) -> M | G18: =VLOOKUP(A18,'2_MEMÓRIA'!B:O,14,0) -> 7095.4 | H18: =VLOOKUP(A18,'2_MEMÓRIA'!B:O,13,0) -> 83.06 | I18: =TRUNC(H18*G18,2) -> 589343.92
A19: 3.6 | B19: =VLOOKUP(A19,'2_MEMÓRIA'!B:C,2,0) -> 09-003-112 | C19: =D19 -> CABO DE COBRE 95MM2 - ISOLAMENTO PARA 0,6/1KV - CLASSE 5 - FLEXÍVEL - ISOLAÇÃO EM EPR 90 C | D19: =VLOOKUP(A19,'2_MEMÓRIA'!B:D,3,0) -> CABO DE COBRE 95MM2 - ISOLAMENTO PARA 0,6/1KV - CLASSE 5 - FLEXÍVEL - ISOLAÇÃO EM EPR 90 C | E19: =VLOOKUP(VLOOKUP(A19,'2_MEMÓRIA'!B:L,11,0),'0_critérios'!A:D,4,0) -> SIURB | F19: =VLOOKUP(A19,'2_MEMÓRIA'!B:N,12,0) -> M | G19: =VLOOKUP(A19,'2_MEMÓRIA'!B:O,14,0) -> 120.9 | H19: =VLOOKUP(A19,'2_MEMÓRIA'!B:O,13,0) -> 111.2 | I19: =TRUNC(H19*G19,2) -> 13444.08
A20: 3.7 | B20: =VLOOKUP(A20,'2_MEMÓRIA'!B:C,2,0) -> 09-003-113 | C20: APLICAÇÃO DE VERNIZ SOBRE SUPERFÍCIES DE CONCRETO APARENTE | D20: =VLOOKUP(A20,'2_MEMÓRIA'!B:D,3,0) -> CABO DE COBRE 120MM2 - ISOLAMENTO PARA 0,6/1KV - CLASSE 5 - FLEXÍVEL - ISOLAÇÃO EM EPR 90 C | E20: =VLOOKUP(VLOOKUP(A20,'2_MEMÓRIA'!B:L,11,0),'0_critérios'!A:D,4,0) -> SIURB | F20: =VLOOKUP(A20,'2_MEMÓRIA'!B:N,12,0) -> M | G20: =VLOOKUP(A20,'2_MEMÓRIA'!B:O,14,0) -> 650 | H20: =VLOOKUP(A20,'2_MEMÓRIA'!B:O,13,0) -> 140.46 | I20: =TRUNC(H20*G20,2) -> 91299
A21: 3.8 | B21: =VLOOKUP(A21,'2_MEMÓRIA'!B:C,2,0) -> 09-003-115 | C21: =D21 -> CABO DE COBRE 185MM2 - ISOLAMENTO PARA 0,6/1KV - CLASSE 5 - FLEXÍVEL - ISOLAÇÃO EM EPR 90 C | D21: =VLOOKUP(A21,'2_MEMÓRIA'!B:D,3,0) -> CABO DE COBRE 185MM2 - ISOLAMENTO PARA 0,6/1KV - CLASSE 5 - FLEXÍVEL - ISOLAÇÃO EM EPR 90 C | E21: =VLOOKUP(VLOOKUP(A21,'2_MEMÓRIA'!B:L,11,0),'0_critérios'!A:D,4,0) -> SIURB | F21: =VLOOKUP(A21,'2_MEMÓRIA'!B:N,12,0) -> M | G21: =VLOOKUP(A21,'2_MEMÓRIA'!B:O,14,0) -> 1093.6 | H21: =VLOOKUP(A21,'2_MEMÓRIA'!B:O,13,0) -> 207.9 | I21: =TRUNC(H21*G21,2) -> 227359.44
A22: 3.9 | B22: =VLOOKUP(A22,'2_MEMÓRIA'!B:C,2,0) -> 09-003-122 | C22: =D22 -> CABO DE COBRE 2,50MM2 - ISOLAMENTO PARA 750V - AFUMEX - CLASSE 5 - FLEXÍVEL - ISOLAÇÃO EM HEPR 90 C | D22: =VLOOKUP(A22,'2_MEMÓRIA'!B:D,3,0) -> CABO DE COBRE 2,50MM2 - ISOLAMENTO PARA 750V - AFUMEX - CLASSE 5 - FLEXÍVEL - ISOLAÇÃO EM HEPR 90 C | E22: =VLOOKUP(VLOOKUP(A22,'2_MEMÓRIA'!B:L,11,0),'0_critérios'!A:D,4,0) -> SIURB | F22: =VLOOKUP(A22,'2_MEMÓRIA'!B:N,12,0) -> M | G22: =VLOOKUP(A22,'2_MEMÓRIA'!B:O,14,0) -> 32360 | H22: =VLOOKUP(A22,'2_MEMÓRIA'!B:O,13,0) -> 5.38 | I22: =TRUNC(H22*G22,2) -> 174096.8
A23: 3.10 | B23: =VLOOKUP(A23,'2_MEMÓRIA'!B:C,2,0) -> 09-003-123 | C23: PINTURA DE RODAPÉS E GUARNIÇÕES DE MADEIRAS | D23: =VLOOKUP(A23,'2_MEMÓRIA'!B:D,3,0) -> CABO DE COBRE 4MM2 - ISOLAMENTO PARA 750V - AFUMEX - CLASSE 5 - FLEXÍVEL - ISOLAÇÃO EM HEPR 90 C | E23: =VLOOKUP(VLOOKUP(A23,'2_MEMÓRIA'!B:L,11,0),'0_critérios'!A:D,4,0) -> SIURB | F23: =VLOOKUP(A23,'2_MEMÓRIA'!B:N,12,0) -> M | G23: =VLOOKUP(A23,'2_MEMÓRIA'!B:O,14,0) -> 4030 | H23: =VLOOKUP(A23,'2_MEMÓRIA'!B:O,13,0) -> 7.6 | I23: =TRUNC(H23*G23,2) -> 30628
A24: 3.11 | B24: =VLOOKUP(A24,'2_MEMÓRIA'!B:C,2,0) -> 09-005-035 | C24: =D23 -> CABO DE COBRE 4MM2 - ISOLAMENTO PARA 750V - AFUMEX - CLASSE 5 - FLEXÍVEL - ISOLAÇÃO EM HEPR 90 C | D24: =VLOOKUP(A24,'2_MEMÓRIA'!B:D,3,0) -> CAIXA DE PASSAGEM TIPO CONDULETE - 3" | E24: =VLOOKUP(VLOOKUP(A24,'2_MEMÓRIA'!B:L,11,0),'0_critérios'!A:D,4,0) -> SIURB | F24: =VLOOKUP(A24,'2_MEMÓRIA'!B:N,12,0) -> UN | G24: =VLOOKUP(A24,'2_MEMÓRIA'!B:O,14,0) -> 354 | H24: =VLOOKUP(A24,'2_MEMÓRIA'!B:O,13,0) -> 311.54 | I24: =TRUNC(H24*G24,2) -> 110285.16
A25: 3.12 | B25: =VLOOKUP(A25,'2_MEMÓRIA'!B:C,2,0) -> 09-013-046 | C25: =D24 -> CAIXA DE PASSAGEM TIPO CONDULETE - 3" | D25: =VLOOKUP(A25,'2_MEMÓRIA'!B:D,3,0) -> ELETROCALHA PERF. GALV. ELETROL. CHAPA 14 - 150X100MM C/ TAMPA E INST. | E25: =VLOOKUP(VLOOKUP(A25,'2_MEMÓRIA'!B:L,11,0),'0_critérios'!A:D,4,0) -> SIURB | F25: =VLOOKUP(A25,'2_MEMÓRIA'!B:N,12,0) -> M | G25: =VLOOKUP(A25,'2_MEMÓRIA'!B:O,14,0) -> 62.4 | H25: =VLOOKUP(A25,'2_MEMÓRIA'!B:O,13,0) -> 185.28 | I25: =TRUNC(H25*G25,2) -> 11561.47
A26: 3.13 | B26: =VLOOKUP(A26,'2_MEMÓRIA'!B:C,2,0) -> 09-013-047 | C26: =D25 -> ELETROCALHA PERF. GALV. ELETROL. CHAPA 14 - 150X100MM C/ TAMPA E INST. | D26: =VLOOKUP(A26,'2_MEMÓRIA'!B:D,3,0) -> ELETROCALHA PERF. GALV. ELETROL. CHAPA 14 - 200X100MM C/ TAMPA E INST. | E26: =VLOOKUP(VLOOKUP(A26,'2_MEMÓRIA'!B:L,11,0),'0_critérios'!A:D,4,0) -> SIURB | F26: =VLOOKUP(A26,'2_MEMÓRIA'!B:N,12,0) -> M | G26: =VLOOKUP(A26,'2_MEMÓRIA'!B:O,14,0) -> 606 | H26: =VLOOKUP(A26,'2_MEMÓRIA'!B:O,13,0) -> 212.49 | I26: =TRUNC(H26*G26,2) -> 128768.94
A27: 3.14 | B27: =VLOOKUP(A27,'2_MEMÓRIA'!B:C,2,0) -> 09-013-050 | C27: PINTURA MINERAL TEXTURIZADA | D27: =VLOOKUP(A27,'2_MEMÓRIA'!B:D,3,0) -> ELETROCALHA PERF. GALV. ELETROL. CHAPA 14 - 400X100MM C/ TAMPA E INST. | E27: =VLOOKUP(VLOOKUP(A27,'2_MEMÓRIA'!B:L,11,0),'0_critérios'!A:D,4,0) -> SIURB | F27: =VLOOKUP(A27,'2_MEMÓRIA'!B:N,12,0) -> M | G27: =VLOOKUP(A27,'2_MEMÓRIA'!B:O,14,0) -> 1240.2 | H27: =VLOOKUP(A27,'2_MEMÓRIA'!B:O,13,0) -> 304.67 | I27: =TRUNC(H27*G27,2) -> 377851.73
A28: 4 | D28: =VLOOKUP(A28,'2_MEMÓRIA'!B:D,2,0) -> QBTG - SMART SAMPA | I28: =IFERROR(SUM(I29:I32),0) -> 226306.11
A29: 4.1 | B29: =VLOOKUP(A29,'2_MEMÓRIA'!B:C,2,0) -> COMP. 1 | C29: PAREDE DRYWALL FACE DUPLA EM GESSO ACARTONADO | D29: =VLOOKUP(A29,'2_MEMÓRIA'!B:D,3,0) -> Caixa p/quadro (2000 x 1200 x 40mm) em chapa galvanizada, inclusive barramento, isolador e montagem, exclusive disjuntores | E29: =VLOOKUP(VLOOKUP(A29,'2_MEMÓRIA'!B:L,11,0),'0_critérios'!A:D,4,0) -> COMPOSIÇÃO | F29: =VLOOKUP(A29,'2_MEMÓRIA'!B:N,12,0) -> UN | G29: =VLOOKUP(A29,'2_MEMÓRIA'!B:O,14,0) -> 2 | H29: =VLOOKUP(A29,'2_MEMÓRIA'!B:O,13,0) -> 20868.36 | I29: =TRUNC(H29*G29,2) -> 41736.72
A30: 4.2 | B30: =VLOOKUP(A30,'2_MEMÓRIA'!B:C,2,0) -> 09-008-024 | C30: ISOLAMENTO ACÚSTICO PARA PAREDE DRYWALL | D30: =VLOOKUP(A30,'2_MEMÓRIA'!B:D,3,0) -> DISJUNTOR AUTOMÁTICO TRIPOLAR A SECO 1600A/600V | E30: =VLOOKUP(VLOOKUP(A30,'2_MEMÓRIA'!B:L,11,0),'0_critérios'!A:D,4,0) -> SIURB | F30: =VLOOKUP(A30,'2_MEMÓRIA'!B:N,12,0) -> UN | G30: =VLOOKUP(A30,'2_MEMÓRIA'!B:O,14,0) -> 6 | H30: =VLOOKUP(A30,'2_MEMÓRIA'!B:O,13,0) -> 29957.46 | I30: =TRUNC(H30*G30,2) -> 179744.76
A31: 4.3 | B31: =VLOOKUP(A31,'2_MEMÓRIA'!B:C,2,0) -> 09-017-037 | C31: REFORÇO DE MADEIRA PARA PAREDE DRYWALL | D31: =VLOOKUP(A31,'2_MEMÓRIA'!B:D,3,0) -> TRANSFORMADOR DE CORRENTE PARA PROTEÇÃO DE INSTALAÇÃO PRIMÁRIA (TENSÃO MÁXIMA 15kV – USO INTERNO) – RELAÇÃO 200:5A | E31: =VLOOKUP(VLOOKUP(A31,'2_MEMÓRIA'!B:L,11,0),'0_critérios'!A:D,4,0) -> SIURB | F31: =VLOOKUP(A31,'2_MEMÓRIA'!B:N,12,0) -> UN | G31: =VLOOKUP(A31,'2_MEMÓRIA'!B:O,14,0) -> 3 | H31: =VLOOKUP(A31,'2_MEMÓRIA'!B:O,13,0) -> 1526.14 | I31: =TRUNC(H31*G31,2) -> 4578.42
A32: 4.4 | B32: =VLOOKUP(A32,'2_MEMÓRIA'!B:C,2,0) -> 09-008-012 | C32: FORRO EM DRYWALL | D32: =VLOOKUP(A32,'2_MEMÓRIA'!B:D,3,0) -> MINI DISJUNTOR - TIPO EUROPEU (IEC) - BIPOLAR 6/25A | E32: =VLOOKUP(VLOOKUP(A32,'2_MEMÓRIA'!B:L,11,0),'0_critérios'!A:D,4,0) -> SIURB | F32: =VLOOKUP(A32,'2_MEMÓRIA'!B:N,12,0) -> UN | G32: =VLOOKUP(A32,'2_MEMÓRIA'!B:O,14,0) -> 3 | H32: =VLOOKUP(A32,'2_MEMÓRIA'!B:O,13,0) -> 82.07 | I32: =TRUNC(H32*G32,2) -> 246.21
A33: 5 | D33: =VLOOKUP(A33,'2_MEMÓRIA'!B:D,2,0) -> QUADROS TRAFOS | I33: =IFERROR(SUM(I34:I35),0) -> 53139.64
A34: 5.1 | B34: =VLOOKUP(A34,'2_MEMÓRIA'!B:C,2,0) -> COMP. 1 | C34: =D34 -> Caixa p/quadro (2000 x 1200 x 40mm) em chapa galvanizada, inclusive barramento, isolador e montagem, exclusive disjuntores | D34: =VLOOKUP(A34,'2_MEMÓRIA'!B:D,3,0) -> Caixa p/quadro (2000 x 1200 x 40mm) em chapa galvanizada, inclusive barramento, isolador e montagem, exclusive disjuntores | E34: =VLOOKUP(VLOOKUP(A34,'2_MEMÓRIA'!B:L,11,0),'0_critérios'!A:D,4,0) -> COMPOSIÇÃO | F34: =VLOOKUP(A34,'2_MEMÓRIA'!B:N,12,0) -> UN | G34: =VLOOKUP(A34,'2_MEMÓRIA'!B:O,14,0) -> 1 | H34: =VLOOKUP(A34,'2_MEMÓRIA'!B:O,13,0) -> 20868.36 | I34: =TRUNC(H34*G34,2) -> 20868.36
A35: 5.2 | B35: =VLOOKUP(A35,'2_MEMÓRIA'!B:C,2,0) -> 101900 | C35: =D35 -> DISJUNTOR BAIXA TENSÃO TRIPOLAR A SECO 800A/600V - FORNECIMENTO E INSTALAÇÃO. AF_07/2025 | D35: =VLOOKUP(A35,'2_MEMÓRIA'!B:D,3,0) -> DISJUNTOR BAIXA TENSÃO TRIPOLAR A SECO 800A/600V - FORNECIMENTO E INSTALAÇÃO. AF_07/2025 | E35: =VLOOKUP(VLOOKUP(A35,'2_MEMÓRIA'!B:L,11,0),'0_critérios'!A:D,4,0) -> SINAPI | F35: =VLOOKUP(A35,'2_MEMÓRIA'!B:N,12,0) -> UN | G35: =VLOOKUP(A35,'2_MEMÓRIA'!B:O,14,0) -> 8 | H35: =VLOOKUP(A35,'2_MEMÓRIA'!B:O,13,0) -> 4033.91 | I35: =TRUNC(H35*G35,2) -> 32271.28
A36: 6 | D36: =VLOOKUP(A36,'2_MEMÓRIA'!B:D,2,0) -> QGBT - AR CONDICIONADO | I36: =IFERROR(SUM(I37:I42),0) -> 35455.82
A37: 6.1 | B37: =VLOOKUP(A37,'2_MEMÓRIA'!B:C,2,0) -> COMP. 1 | C37: =D37 -> Caixa p/quadro (2000 x 1200 x 40mm) em chapa galvanizada, inclusive barramento, isolador e montagem, exclusive disjuntores | D37: =VLOOKUP(A37,'2_MEMÓRIA'!B:D,3,0) -> Caixa p/quadro (2000 x 1200 x 40mm) em chapa galvanizada, inclusive barramento, isolador e montagem, exclusive disjuntores | E37: =VLOOKUP(VLOOKUP(A37,'2_MEMÓRIA'!B:L,11,0),'0_critérios'!A:D,4,0) -> COMPOSIÇÃO | F37: =VLOOKUP(A37,'2_MEMÓRIA'!B:N,12,0) -> UN | G37: =VLOOKUP(A37,'2_MEMÓRIA'!B:O,14,0) -> 1 | H37: =VLOOKUP(A37,'2_MEMÓRIA'!B:O,13,0) -> 20868.36 | I37: =TRUNC(H37*G37,2) -> 20868.36
A38: 6.2 | B38: =VLOOKUP(A38,'2_MEMÓRIA'!B:C,2,0) -> 101900 | C38: =D38 -> DISJUNTOR BAIXA TENSÃO TRIPOLAR A SECO 800A/600V - FORNECIMENTO E INSTALAÇÃO. AF_07/2025 | D38: =VLOOKUP(A38,'2_MEMÓRIA'!B:D,3,0) -> DISJUNTOR BAIXA TENSÃO TRIPOLAR A SECO 800A/600V - FORNECIMENTO E INSTALAÇÃO. AF_07/2025 | E38: =VLOOKUP(VLOOKUP(A38,'2_MEMÓRIA'!B:L,11,0),'0_critérios'!A:D,4,0) -> SINAPI | F38: =VLOOKUP(A38,'2_MEMÓRIA'!B:N,12,0) -> UN | G38: =VLOOKUP(A38,'2_MEMÓRIA'!B:O,14,0) -> 1 | H38: =VLOOKUP(A38,'2_MEMÓRIA'!B:O,13,0) -> 4033.91 | I38: =TRUNC(H38*G38,2) -> 4033.91
A39: 6.3 | B39: =VLOOKUP(A39,'2_MEMÓRIA'!B:C,2,0) -> 37.11.120 | C39: =D39 -> Base de fusível tripolar de 15 kV | D39: =VLOOKUP(A39,'2_MEMÓRIA'!B:D,3,0) -> Base de fusível tripolar de 15 kV | E39: =VLOOKUP(VLOOKUP(A39,'2_MEMÓRIA'!B:L,11,0),'0_critérios'!A:D,4,0) -> CPOS/CDHU | F39: =VLOOKUP(A39,'2_MEMÓRIA'!B:N,12,0) -> UN | G39: =VLOOKUP(A39,'2_MEMÓRIA'!B:O,14,0) -> 3 | H39: =VLOOKUP(A39,'2_MEMÓRIA'!B:O,13,0) -> 1502.13 | I39: =TRUNC(H39*G39,2) -> 4506.39
A40: 6.4 | B40: =VLOOKUP(A40,'2_MEMÓRIA'!B:C,2,0) -> 09-017-001 | C40: =D40 -> DPS - DISPOSITIVO PROTEÇÃO CONTRA SURTOS 275V - 40KA | D40: =VLOOKUP(A40,'2_MEMÓRIA'!B:D,3,0) -> DPS - DISPOSITIVO PROTEÇÃO CONTRA SURTOS 275V - 40KA | E40: =VLOOKUP(VLOOKUP(A40,'2_MEMÓRIA'!B:L,11,0),'0_critérios'!A:D,4,0) -> SIURB | F40: =VLOOKUP(A40,'2_MEMÓRIA'!B:N,12,0) -> UN | G40: =VLOOKUP(A40,'2_MEMÓRIA'!B:O,14,0) -> 4 | H40: =VLOOKUP(A40,'2_MEMÓRIA'!B:O,13,0) -> 250.7 | I40: =TRUNC(H40*G40,2) -> 1002.8
...

Sheet 2_MEMÓRIA
B1: MEMÓRIA DE CALCULO
B2: ITEM | C2: CÓDIGO | L2: FONTE | M2: UNID | N2: PREÇO UNIT. | O2: QUANT
B4: 1 | C4: EQUIPE TÉCNICA
B6: 1.1 | C6: 20-003-002 | D6: =IFERROR(__xludf.DUMMYFUNCTION("VLOOKUP(C6,IMPORTRANGE('0_critérios'!$C$3,'0_critérios'!$B$3),2,0)"),"ENGENHEIRO/ ARQUITETO SÊNIOR") -> ENGENHEIRO/ ARQUITETO SÊNIOR | L6: ='0_critérios'!$A$3 -> SIURB-EDIF-UNIT-JAN/26 | M6: =IFERROR(__xludf.DUMMYFUNCTION("VLOOKUP(C6,IMPORTRANGE('0_critérios'!$C$3,'0_critérios'!$B$3),3,0)"),"H") -> H | N6: =IFERROR(__xludf.DUMMYFUNCTION("VLOOKUP(C6,IMPORTRANGE('0_critérios'!$C$3,'0_critérios'!$B$3),4,0)"),322.26) -> 322.26 | O6: =TRUNC(IF(E8>0,E8,IF(J8<>"-",J8,IF(I8>0,I8,""))),2) -> 480
D7: Local | E7: UN | F7: COMPR.(M) | G7: LARG.(M) | H7: ALT.(M) | I7: ÁREA (M2) | J7: VOLUME (M³) | K7: OBSERVAÇÕES
E8: 480 | I8: =IF(J8<>"-","-",IF(F8*G8=0,"-",TRUNC(F8*G8,2))) -> - | J8: =IF(F8*G8*H8=0,"-",TRUNC(F8*G8*H8,2)) -> -
B10: 1.2 | C10: 100309 | D10: =IFERROR(__xludf.DUMMYFUNCTION("VLOOKUP(C10,IMPORTRANGE('0_critérios'!$C$7,'0_critérios'!$B$7),2,0)"),"TÉCNICO EM SEGURANÇA DO TRABALHO COM ENCARGOS COMPLEMENTARES") -> TÉCNICO EM SEGURANÇA DO TRABALHO COM ENCARGOS COMPLEMENTARES | L10: ='0_critérios'!$A$7 -> SINAPI-SINT-ABR/26 | M10: =IFERROR(__xludf.DUMMYFUNCTION("VLOOKUP(C10,IMPORTRANGE('0_critérios'!$C$7,'0_critérios'!$B$7),3,0)"),"H") -> H | N10: =IFERROR(__xludf.DUMMYFUNCTION("VLOOKUP(C10,IMPORTRANGE('0_critérios'!$C$7,'0_critérios'!$B$7),4,0)"),76.12) -> 76.12 | O10: =TRUNC(IF(E12>0,E12,IF(J12<>"-",J12,IF(I12>0,I12,""))),2) -> 240
D11: Local | E11: UN | F11: COMPR.(m) | G11: LARG.(m) | H11: ALT.(m) | I11: ÁREA (m²) | J11: VOLUME (m³) | K11: OBSERVAÇÕES
E12: 240 | I12: =IF(J12<>"-","-",IF(F12*G12=0,"-",TRUNC(F12*G12,2))) -> - | J12: =IF(F12*G12*H12=0,"-",TRUNC(F12*G12*H12,2)) -> -
B14: 1.3 | C14: 100533 | D14: =IFERROR(__xludf.DUMMYFUNCTION("VLOOKUP(C14,IMPORTRANGE('0_critérios'!$C$7,'0_critérios'!$B$7),2,0)"),"TECNICO DE EDIFICACOES COM ENCARGOS COMPLEMENTARES") -> TECNICO DE EDIFICACOES COM ENCARGOS COMPLEMENTARES | L14: ='0_critérios'!$A$7 -> SINAPI-SINT-ABR/26 | M14: =IFERROR(__xludf.DUMMYFUNCTION("VLOOKUP(C14,IMPORTRANGE('0_critérios'!$C$7,'0_critérios'!$B$7),3,0)"),"H") -> H | N14: =IFERROR(__xludf.DUMMYFUNCTION("VLOOKUP(C14,IMPORTRANGE('0_critérios'!$C$7,'0_critérios'!$B$7),4,0)"),67.76) -> 67.76 | O14: =TRUNC(IF(E16>0,E16,IF(J16<>"-",J16,IF(I16>0,I16,""))),2) -> 240
D15: Local | E15: UN | F15: COMPR.(m) | G15: LARG.(m) | H15: ALT.(m) | I15: ÁREA (m²) | J15: VOLUME (m³) | K15: OBSERVAÇÕES
E16: 240 | I16: =IF(J16<>"-","-",IF(F16*G16=0,"-",TRUNC(F16*G16,2))) -> - | J16: =IF(F16*G16*H16=0,"-",TRUNC(F16*G16*H16,2)) -> -
B18: 1.4 | C18: 12-004-000 | D18: =IFERROR(__xludf.DUMMYFUNCTION("VLOOKUP(C18,IMPORTRANGE('0_critérios'!$C$5,'0_critérios'!$B$5),2,0)"),"ELETRICISTA") -> ELETRICISTA | L18: ='0_critérios'!$A$5 -> SIURB-INFRA-UNIT-JAN/26 | M18: =IFERROR(__xludf.DUMMYFUNCTION("VLOOKUP(C18,IMPORTRANGE('0_critérios'!$C$5,'0_critérios'!$B$5),3,0)"),"H") -> H | N18: =IFERROR(__xludf.DUMMYFUNCTION("VLOOKUP(C18,IMPORTRANGE('0_critérios'!$C$5,'0_critérios'!$B$5),4,0)"),33.91) -> 33.91 | O18: =TRUNC(IF(E20>0,E20,IF(J20<>"-",J20,IF(I20>0,I20,""))),2) -> 480
D19: Local | E19: UN | F19: COMPR.(M) | G19: LARG.(M) | H19: ALT.(M) | I19: ÁREA (M2) | J19: VOLUME (M³) | K19: OBSERVAÇÕES
E20: 480 | I20: =IF(J20<>"-","-",IF(F20*G20=0,"-",TRUNC(F20*G20,2))) -> - | J20: =IF(F20*G20*H20=0,"-",TRUNC(F20*G20*H20,2)) -> -
B22: 1.5 | C22: 03-041-000 | D22: =IFERROR(__xludf.DUMMYFUNCTION("VLOOKUP(C22,IMPORTRANGE('0_critérios'!$C$5,'0_critérios'!$B$5),2,0)"),"AJUDANTE GERAL") -> AJUDANTE GERAL | L22: ='0_critérios'!$A$5 -> SIURB-INFRA-UNIT-JAN/26 | M22: =IFERROR(__xludf.DUMMYFUNCTION("VLOOKUP(C22,IMPORTRANGE('0_critérios'!$C$5,'0_critérios'!$B$5),3,0)"),"H") -> H | N22: =IFERROR(__xludf.DUMMYFUNCTION("VLOOKUP(C22,IMPORTRANGE('0_critérios'!$C$5,'0_critérios'!$B$5),4,0)"),24.5) -> 24.5 | O22: =TRUNC(IF(E24>0,E24,IF(J24<>"-",J24,IF(I24>0,I24,""))),2) -> 480
D23: Local | E23: UN | F23: COMPR.(M) | G23: LARG.(M) | H23: ALT.(M) | I23: ÁREA (M2) | J23: VOLUME (M³) | K23: OBSERVAÇÕES
E24: 480 | I24: =IF(J24<>"-","-",IF(F24*G24=0,"-",TRUNC(F24*G24,2))) -> - | J24: =IF(F24*G24*H24=0,"-",TRUNC(F24*G24*H24,2)) -> -
B26: 2 | C26: PROJETOS
B28: 2.1 | C28: 20-003-061 | D28: =IFERROR(__xludf.DUMMYFUNCTION("VLOOKUP(C28,IMPORTRANGE('0_critérios'!$C$3,'0_critérios'!$B$3),2,0)"),"PROJETO EXECUTIVO (PRANCHA A1)") -> PROJETO EXECUTIVO (PRANCHA A1) | L28: ='0_critérios'!$A$3 -> SIURB-EDIF-UNIT-JAN/26 | M28: =IFERROR(__xludf.DUMMYFUNCTION("VLOOKUP(C28,IMPORTRANGE('0_critérios'!$C$3,'0_critérios'!$B$3),3,0)"),"UN") -> UN | N28: =IFERROR(__xludf.DUMMYFUNCTION("VLOOKUP(C28,IMPORTRANGE('0_critérios'!$C$3,'0_critérios'!$B$3),4,0)"),4003.86) -> 4003.86 | O28: =TRUNC(IF(E30>0,E30,IF(J30<>"-",J30,IF(I30>0,I30,""))),2) -> 15
D29: Local | E29: UN | F29: COMPR.(M) | G29: LARG.(M) | H29: ALT.(M) | I29: ÁREA (M2) | J29: VOLUME (M³) | K29: OBSERVAÇÕES
E30: 15 | I30: =IF(J30<>"-","-",IF(F30*G30=0,"-",TRUNC(F30*G30,2))) -> - | J30: =IF(F30*G30*H30=0,"-",TRUNC(F30*G30*H30,2)) -> - | K30: Projeto Executivo e As Built
B32: 3 | C32: INSTALAÇÕES ELÉTRICAS - CABOS E INFRAESTRUTURA
B34: 3.1 | C34: 09-084-002 | D34: =IFERROR(__xludf.DUMMYFUNCTION("VLOOKUP(C34,IMPORTRANGE('0_critérios'!$C$3,'0_critérios'!$B$3),2,0)"),"BUCHA E ARRUELA RÍGIDA PESADA EM ZAMAK - 3/4""") -> BUCHA E ARRUELA RÍGIDA PESADA EM ZAMAK - 3/4" | L34: ='0_critérios'!$A$3 -> SIURB-EDIF-UNIT-JAN/26 | M34: =IFERROR(__xludf.DUMMYFUNCTION("VLOOKUP(C34,IMPORTRANGE('0_critérios'!$C$3,'0_critérios'!$B$3),3,0)"),"UN") -> UN | N34: =IFERROR(__xludf.DUMMYFUNCTION("VLOOKUP(C34,IMPORTRANGE('0_critérios'!$C$3,'0_critérios'!$B$3),4,0)"),12.81) -> 12.81 | O34: =TRUNC(IF(E36>0,E36,IF(J36<>"-",J36,IF(I36>0,I36,""))),2) -> 619
D35: Local | E35: UN | F35: COMPR.(M) | G35: LARG.(M) | H35: ALT.(M) | I35: ÁREA (M2) | J35: VOLUME (M³) | K35: OBSERVAÇÕES
E36: 619 | I36: =IF(J36<>"-","-",IF(F36*G36=0,"-",TRUNC(F36*G36,2))) -> - | J36: =IF(F36*G36*H36=0,"-",TRUNC(F36*G36*H36,2)) -> -
B38: 3.2 | C38: 09-003-105 | D38: =IFERROR(__xludf.DUMMYFUNCTION("VLOOKUP(C38,IMPORTRANGE('0_critérios'!$C$3,'0_critérios'!$B$3),2,0)"),"CABO DE COBRE 6MM2 - ISOLAMENTO PARA 0,6/1KV - CLASSE 5 - FLEXÍVEL - ISOLAÇÃO EM EPR 90 C") -> CABO DE COBRE 6MM2 - ISOLAMENTO PARA 0,6/1KV - CLASSE 5 - FLEXÍVEL - ISOLAÇÃO EM EPR 90 C | L38: ='0_critérios'!$A$3 -> SIURB-EDIF-UNIT-JAN/26 | M38: =IFERROR(__xludf.DUMMYFUNCTION("VLOOKUP(C38,IMPORTRANGE('0_critérios'!$C$3,'0_critérios'!$B$3),3,0)"),"M") -> M | N38: =IFERROR(__xludf.DUMMYFUNCTION("VLOOKUP(C38,IMPORTRANGE('0_critérios'!$C$3,'0_critérios'!$B$3),4,0)"),10.44) -> 10.44 | O38: =TRUNC(IF(E40>0,E40,IF(J40<>"-",J40,IF(I40>0,I40,""))),2) -> 21047
D39: Local | E39: UN | F39: COMPR.(M) | G39: LARG.(M) | H39: ALT.(M) | I39: ÁREA (M2) | J39: VOLUME (M³) | K39: OBSERVAÇÕES
E40: 21047 | I40: =IF(J40<>"-","-",IF(F40*G40=0,"-",TRUNC(F40*G40,2))) -> - | J40: =IF(F40*G40*H40=0,"-",TRUNC(F40*G40*H40,2)) -> -
B42: 3.3 | C42: 09-003-106 | D42: =IFERROR(__xludf.DUMMYFUNCTION("VLOOKUP(C42,IMPORTRANGE('0_critérios'!$C$3,'0_critérios'!$B$3),2,0)"),"CABO DE COBRE 10MM2 - ISOLAMENTO PARA 0,6/1KV - CLASSE 5 - FLEXÍVEL - ISOLAÇÃO EM EPR 90 C") -> CABO DE COBRE 10MM2 - ISOLAMENTO PARA 0,6/1KV - CLASSE 5 - FLEXÍVEL - ISOLAÇÃO EM EPR 90 C | L42: ='0_critérios'!$A$3 -> SIURB-EDIF-UNIT-JAN/26 | M42: =IFERROR(__xludf.DUMMYFUNCTION("VLOOKUP(C42,IMPORTRANGE('0_critérios'!$C$3,'0_critérios'!$B$3),3,0)"),"M") -> M | N42: =IFERROR(__xludf.DUMMYFUNCTION("VLOOKUP(C42,IMPORTRANGE('0_critérios'!$C$3,'0_critérios'!$B$3),4,0)"),14.88) -> 14.88 | O42: =TRUNC(IF(E44>0,E44,IF(J44<>"-",J44,IF(I44>0,I44,""))),2) -> 422.5
D43: Local | E43: UN | F43: COMPR.(M) | G43: LARG.(M) | H43: ALT.(M) | I43: ÁREA (M2) | J43: VOLUME (M³) | K43: OBSERVAÇÕES
E44: 422.5 | I44: =IF(J44<>"-","-",IF(F44*G44=0,"-",TRUNC(F44*G44,2))) -> - | J44: =IF(F44*G44*H44=0,"-",TRUNC(F44*G44*H44,2)) -> -
B46: 3.4 | C46: 09-003-109 | D46: =IFERROR(__xludf.DUMMYFUNCTION("VLOOKUP(C46,IMPORTRANGE('0_critérios'!$C$3,'0_critérios'!$B$3),2,0)"),"CABO DE COBRE 35MM2 - ISOLAMENTO PARA 0,6/1KV - CLASSE 5 - FLEXÍVEL - ISOLAÇÃO EM EPR 90 C") -> CABO DE COBRE 35MM2 - ISOLAMENTO PARA 0,6/1KV - CLASSE 5 - FLEXÍVEL - ISOLAÇÃO EM EPR 90 C | L46: ='0_critérios'!$A$3 -> SIURB-EDIF-UNIT-JAN/26 | M46: =IFERROR(__xludf.DUMMYFUNCTION("VLOOKUP(C46,IMPORTRANGE('0_critérios'!$C$3,'0_critérios'!$B$3),3,0)"),"M") -> M | N46: =IFERROR(__xludf.DUMMYFUNCTION("VLOOKUP(C46,IMPORTRANGE('0_critérios'!$C$3,'0_critérios'!$B$3),4,0)"),43.82) -> 43.82 | O46: =TRUNC(IF(E48>0,E48,IF(J48<>"-",J48,IF(I48>0,I48,""))),2) -> 778.7
D47: Local | E47: UN | F47: COMPR.(M) | G47: LARG.(M) | H47: ALT.(M) | I47: ÁREA (M2) | J47: VOLUME (M³) | K47: OBSERVAÇÕES
E48: 778.7 | I48: =IF(J48<>"-","-",IF(F48*G48=0,"-",TRUNC(F48*G48,2))) -> - | J48: =IF(F48*G48*H48=0,"-",TRUNC(F48*G48*H48,2)) -> -
B50: 3.5 | C50: 09-003-111 | D50: =IFERROR(__xludf.DUMMYFUNCTION("VLOOKUP(C50,IMPORTRANGE('0_critérios'!$C$3,'0_critérios'!$B$3),2,0)"),"CABO DE COBRE 70MM2 - ISOLAMENTO PARA 0,6/1KV - CLASSE 5 - FLEXÍVEL - ISOLAÇÃO EM EPR 90 C") -> CABO DE COBRE 70MM2 - ISOLAMENTO PARA 0,6/1KV - CLASSE 5 - FLEXÍVEL - ISOLAÇÃO EM EPR 90 C | L50: ='0_critérios'!$A$3 -> SIURB-EDIF-UNIT-JAN/26 | M50: =IFERROR(__xludf.DUMMYFUNCTION("VLOOKUP(C50,IMPORTRANGE('0_critérios'!$C$3,'0_critérios'!$B$3),3,0)"),"M") -> M | N50: =IFERROR(__xludf.DUMMYFUNCTION("VLOOKUP(C50,IMPORTRANGE('0_critérios'!$C$3,'0_critérios'!$B$3),4,0)"),83.06) -> 83.06 | O50: =TRUNC(IF(E52>0,E52,IF(J52<>"-",J52,IF(I52>0,I52,""))),2) -> 7095.4
D51: Local | E51: UN | F51: COMPR.(M) | G51: LARG.(M) | H51: ALT.(M) | I51: ÁREA (M2) | J51: VOLUME (M³) | K51: OBSERVAÇÕES
E52: 7095.4 | I52: =IF(J52<>"-","-",IF(F52*G52=0,"-",TRUNC(F52*G52,2))) -> - | J52: =IF(F52*G52*H52=0,"-",TRUNC(F52*G52*H52,2)) -> -
B54: 3.6 | C54: 09-003-112 | D54: =IFERROR(__xludf.DUMMYFUNCTION("VLOOKUP(C54,IMPORTRANGE('0_critérios'!$C$3,'0_critérios'!$B$3),2,0)"),"CABO DE COBRE 95MM2 - ISOLAMENTO PARA 0,6/1KV - CLASSE 5 - FLEXÍVEL - ISOLAÇÃO EM EPR 90 C") -> CABO DE COBRE 95MM2 - ISOLAMENTO PARA 0,6/1KV - CLASSE 5 - FLEXÍVEL - ISOLAÇÃO EM EPR 90 C | L54: ='0_critérios'!$A$3 -> SIURB-EDIF-UNIT-JAN/26 | M54: =IFERROR(__xludf.DUMMYFUNCTION("VLOOKUP(C54,IMPORTRANGE('0_critérios'!$C$3,'0_critérios'!$B$3),3,0)"),"M") -> M | N54: =IFERROR(__xludf.DUMMYFUNCTION("VLOOKUP(C54,IMPORTRANGE('0_critérios'!$C$3,'0_critérios'!$B$3),4,0)"),111.2) -> 111.2 | O54: =TRUNC(IF(E56>0,E56,IF(J56<>"-",J56,IF(I56>0,I56,""))),2) -> 120.9
D55: Local | E55: UN | F55: COMPR.(M) | G55: LARG.(M) | H55: ALT.(M) | I55: ÁREA (M2) | J55: VOLUME (M³) | K55: OBSERVAÇÕES
...

Sheet 3_COMPOSIÇÃO
A1: ANEXO III.B - COMPOSIÇÃO DE CUSTO UNITÁRIO | H1: ocultar | M1: ocultar | N1: ocultar
A3: CÓDIGO COMP. | B3: DESCRIÇÃO COMP. | C3: UNID. COMP. | D3: OBSERVAÇÕES | E3: CUSTO TOTAL | F3: TIPO ITEM | G3: CÓDIGO ITEM | H3: FONTE | I3: FONTE | J3: DESCRIÇÃO ITEM | K3: UNID. ITEM | L3: COEF. ITEM | M3: PREÇO UNIT. | N3: CUSTO TOTAL
A4: COMP. 1 | B4: Caixa p/quadro (2000 x 1200 x 40mm) em chapa galvanizada, inclusive barramento, isolador e montagem, exclusive disjuntores | C4: UN | D4: FORNECIMENTO E INSTALAÇÃO | E4: 20868.36 | F4: REF. | G4: 9001 | H4: PESQUISA DE PREÇO | I4: ORSE | J4: Caixa p/quadro (2000 x 1200 x 40mm) em chapa galvanizada, inclusive barramento, isolador e montagem, exclusive disjuntores | K4: UN | L4: 1 | M4: =VLOOKUP(G4,'4_COMP_insumos'!B:G,6,0) -> #REF! | N4: =M4*L4 -> #REF!
A6: CÓDIGO COMP. | B6: DESCRIÇÃO COMP. | C6: UNID. COMP. | D6: OBSERVAÇÕES | E6: CUSTO TOTAL | F6: TIPO ITEM | G6: CÓDIGO ITEM | H6: FONTE | I6: FONTE | J6: DESCRIÇÃO ITEM | K6: UNID. ITEM | L6: COEF. ITEM | M6: PREÇO UNIT. | N6: CUSTO TOTAL
A7: COMP. 2 | B7: SISTEMA BLOQUEIO-ACIONADOR MANUAL EMERGENCIA | C7: UN | D7: FORNECIMENTO E INSTALAÇÃO | E7: 1705.54 | F7: REF. | G7: 067409 | H7: PESQUISA DE PREÇO | I7: SBC | J7: SISTEMA BLOQUEIO-ACIONADOR MANUAL EMERGENCIA | K7: UN | L7: 1 | M7: =VLOOKUP(G7,'4_COMP_insumos'!B:G,6,0) -> #REF! | N7: =M7*L7 -> #REF!
A9: CÓDIGO COMP. | B9: DESCRIÇÃO COMP. | C9: UNID. COMP. | D9: OBSERVAÇÕES | E9: CUSTO TOTAL | F9: TIPO ITEM | G9: CÓDIGO ITEM | H9: FONTE | I9: FONTE | J9: DESCRIÇÃO ITEM | K9: UNID. ITEM | L9: COEF. ITEM | M9: PREÇO UNIT. | N9: CUSTO TOTAL
A10: COMP. 3 | B10: DISJUNTOR TRIPOLAR CAIXA MOLDADA 690VCA 600A 10KA STECK | C10: UN | D10: FORNECIMENTO E INSTALAÇÃO | E10: 3244.91 | F10: REF. | G10: 064170 | H10: PESQUISA DE PREÇO | I10: SBC | J10: DISJUNTOR TRIPOLAR CAIXA MOLDADA 690VCA 600A 10KA STECK | K10: UN | L10: 1 | M10: =VLOOKUP(G10,'4_COMP_insumos'!B:G,6,0) -> #REF! | N10: =M10*L10 -> #REF!
A12: CÓDIGO COMP. | B12: DESCRIÇÃO COMP. | C12: UNID. COMP. | D12: OBSERVAÇÕES | E12: CUSTO TOTAL | F12: TIPO ITEM | G12: CÓDIGO ITEM | H12: FONTE | I12: FONTE | J12: DESCRIÇÃO ITEM | K12: UNID. ITEM | L12: COEF. ITEM | M12: PREÇO UNIT. | N12: CUSTO TOTAL
A13: COMP. 4 | B13: DISJUNTOR TRIPOLAR CAIXA MOLDADA 225A EZC250N3225 SCHNEIDER | C13: UN | D13: FORNECIMENTO E INSTALAÇÃO | E13: 1637.64 | F13: REF. | G13: 064173 | H13: ='0_critérios'!$A$9 -> SINAPI-INSU-ABR/26 | I13: SBC | J13: DISJUNTOR TRIPOLAR CAIXA MOLDADA 225A EZC250N3225 SCHNEIDER | K13: UN | L13: 1 | M13: =IFERROR(__xludf.DUMMYFUNCTION("VLOOKUP(G13,IMPORTRANGE('0_critérios'!$C$9,'0_critérios'!$B$9),5,0)"),"#N/A") -> #N/A | N13: =M13*L13 -> #N/A
A15: CÓDIGO COMP. | B15: DESCRIÇÃO COMP. | C15: UNID. COMP. | D15: OBSERVAÇÕES | E15: CUSTO TOTAL | F15: TIPO ITEM | G15: CÓDIGO ITEM | H15: FONTE | I15: FONTE | J15: DESCRIÇÃO ITEM | K15: UNID. ITEM | L15: COEF. ITEM | M15: PREÇO UNIT. | N15: CUSTO TOTAL
A16: COMP. 5 | B16: Painel de sobrepor auto suportável tipo armário - QGBT - com disjuntores e acessórios, dim: 1900x1000x400mm | C16: UN | D16: FORNECIMENTO E INSTALAÇÃO | E16: 27378.51 | F16: REF. | G16: 9512 | H16: PESQUISA DE PREÇO | I16: ORSE | J16: Painel de sobrepor auto suportável tipo armário - QGBT - com disjuntores e acessórios, dim: 1900x1000x400mm | K16: UN | L16: 1 | M16: =VLOOKUP(G16,'4_COMP_insumos'!B:G,6,0) -> #REF! | N16: =M16*L16 -> #REF!
A19: OBS: Os códigos de Composição correspondem à números referenciais de identificação e não estão em organização númérica sequencial.

Sheet 5_COMP_BDI
A1: ANEXO III.A - COMPOSIÇÃO DO BDI
A2: EDIFICAÇÕES
A3: ESCRITÓRIO CENTRAL | B3: AC | C3: 0.0446 | D3: =1+(C3+C11+C12+C13) -> 1.0446
A4: LUCRO BRUTO | B4: L | C4: 0.08 | D4: =1+C4 -> 1.08
A5: IMPOSTOS: | B5: I | C5: =SUM(C6:C9) -> 0.1015 | D5: =1-C5 -> 0.8985
A6: INSS | C6: 0.045
A7: Cofins | C7: 0.03
A8: PIS | C8: 0.0065
A9: ISS | C9: 0.02
A10: TAXA DE RISCO | B10: TR | C10: =SUM(C11:C13) -> 0
A11: Seguro | B11: R | C11: 0
A12: Risco | B12: S | C12: 0
A13: Garantia | B13: G | C13: 0
A14: DESPESAS FINANCEIRAS | B14: DF | C14: 0 | D14: =1+C14 -> 1
A15: BDI - EDIFICAÇÕES | B15: BDI | D15: =TRUNC(((D3*D4*D14)/D5)-1,4) -> 0.2556

Sheet 0_critérios
A1: TABELA - FONTE | B1: INTERVALO | C1: LINK PLANILHA | D1: TABELA BASE
A2: COMPOSIÇÃO | D2: COMPOSIÇÃO
A3: SIURB-EDIF-UNIT-JAN/26 | B3: SIURB-EDIF-UNIT-JAN/26!A2:D | C3: "101cqjHWVsEHPBeLfsMPpPV4UXg0t1V4AevTVw3JhrGY" | D3: SIURB
A4: SIURB-EDIF-COMP-JAN/25 | B4: SIURB-EDIF-COMP-JAN/25!C2:I | C4: "101cqjHWVsEHPBeLfsMPpPV4UXg0t1V4AevTVw3JhrGY" | D4: SIURB
A5: SIURB-INFRA-UNIT-JAN/26 | B5: SIURB-INFRA-UNIT-JAN/26!A2:D | C5: "101cqjHWVsEHPBeLfsMPpPV4UXg0t1V4AevTVw3JhrGY" | D5: SIURB
A6: SIURB-INFRA-COMP-JAN/25 | B6: SIURB-INFRA-COMP-JAN/25!C3:I | C6: "101cqjHWVsEHPBeLfsMPpPV4UXg0t1V4AevTVw3JhrGY" | D6: SIURB
A7: SINAPI-SINT-ABR/26 | B7: SINAPI-SINT-ABR/26!B5:E | C7: "101cqjHWVsEHPBeLfsMPpPV4UXg0t1V4AevTVw3JhrGY" | D7: SINAPI
A8: SINAPI-ANALI-ABR/26 | B8: SINAPI-ANALI-ABR/26!D5:G | C8: "101cqjHWVsEHPBeLfsMPpPV4UXg0t1V4AevTVw3JhrGY" | D8: SINAPI
A9: SINAPI-INSU-ABR/26 | B9: SINAPI-INSU-ABR/26!A5:E | C9: "101cqjHWVsEHPBeLfsMPpPV4UXg0t1V4AevTVw3JhrGY" | D9: SINAPI
A10: CPOS/CDHU | D10: CPOS/CDHU
